BEGIN:VCALENDAR
VERSION:2.0
PRODID:-//ChamberMaster//Event Calendar 2.0//EN
METHOD:PUBLISH
X-PUBLISHED-TTL:P3D
REFRESH-INTERVAL:P3D
CALSCALE:GREGORIAN
BEGIN:VEVENT
DTSTART:20130614T210000Z
DTEND:20130614T230000Z
X-MICROSOFT-CDO-ALLDAYEVENT:FALSE
SUMMARY:Chamber Networking Mixer
DESCRIPTION:Join us on the deck overlooking the Hudson to kick off the summer!
X-ALT-DESC;FMTTYPE=text/html:Join us on the deck overlooking the Hudson to kick off the summer!
LOCATION:Yanni's Too 20 Marina Drive Coeymans
UID:e.1354.1932
SEQUENCE:3
DTSTAMP:20260425T173141Z
URL:http://business.bethlehemchamber.com/events/details/chamber-networking-mixer-06-14-2013-1932
END:VEVENT

END:VCALENDAR
