BEGIN:VCALENDAR
VERSION:2.0
PRODID:-//ChamberMaster//Event Calendar 2.0//EN
METHOD:PUBLISH
X-PUBLISHED-TTL:P3D
REFRESH-INTERVAL:P3D
CALSCALE:GREGORIAN
BEGIN:VEVENT
DTSTART:20260523T193000Z
DTEND:20260523T220000Z
X-MICROSOFT-CDO-ALLDAYEVENT:FALSE
SUMMARY:Chicken Parm Dinner
DESCRIPTION:Chicken Parm Dinner\n\nMay 23\n\nEat In - or Take Out    3:30-6:00 p.m.\n\n\n\nReservations suggested 518-227-8954\, 518-810-6031 or 518-567-4294\n\n\n\nThe Bethlehem Grange #137 \n\n24 Bridge Street\, Selkirk NY\n\nHandicapped accessible
X-ALT-DESC;FMTTYPE=text/html:<br />\n<strong><span style="font-family:arial\,sans-serif\;"><span style="font-size:10.0pt\;">Chicken Parm Dinner</span></span></strong><br />\n<span style="font-family:arial\,sans-serif\;"><span style="font-size:10.0pt\;">May 23</span></span><br />\n<span style="font-family:arial\,sans-serif\;"><span style="font-size:10pt\;">Eat In - or Take Out&nbsp\; &nbsp\; 3:30-6:00 p.m.</span></span><br />\n<br />\n<span style="font-family:arial\,sans-serif\;"><span style="font-size:10pt\;">Reservations suggested 518-227-8954\,&nbsp\;</span></span><span style="font-family:arial\,sans-serif\;"><span style="font-size:10pt\;">518-810-6031 or 518-567-4294</span></span><br />\n<br />\n<span style="font-family:arial\,sans-serif\;"><span style="font-size:10.0pt\;">The Bethlehem Grange #137&nbsp\;</span></span><br />\n<span style="font-family:arial\,sans-serif\;"><span style="font-size:10.0pt\;">24 Bridge Street\, Selkirk NY</span></span><br />\n<span style="font-family:arial\,sans-serif\;"><span style="font-size:10.0pt\;">Handicapped accessible</span></span><br />\n<br />\n&nbsp\;
LOCATION:The Bethlehem Grange #137 24 Bridge Street\, Selkirk NY Handicapped accessible
UID:e.1354.11432
SEQUENCE:3
DTSTAMP:20260422T190926Z
URL:http://business.bethlehemchamber.com/events/details/chicken-parm-dinner-11432
END:VEVENT

END:VCALENDAR
