BEGIN:VCALENDAR
VERSION:2.0
PRODID:-//ChamberMaster//Event Calendar 2.0//EN
METHOD:PUBLISH
X-PUBLISHED-TTL:P3D
REFRESH-INTERVAL:P3D
CALSCALE:GREGORIAN
BEGIN:VEVENT
DTSTART:20150513T210000Z
DTEND:20150513T220000Z
X-MICROSOFT-CDO-ALLDAYEVENT:FALSE
SUMMARY:Free Movement Pilates Ribbon Cutting and Grand Opening
DESCRIPTION:Join us to celebrate the Grand Opening of Free Movement Pilates in Delmar!  Tour the pilates studio\, meet the instructors and enjoy appetizers\, drinks and giveaways during the event.
X-ALT-DESC;FMTTYPE=text/html:Join us to celebrate the Grand Opening of Free Movement Pilates in Delmar!&nbsp\; Tour the pilates studio\, meet the instructors and enjoy appetizers\, drinks and giveaways during the event.
LOCATION:500 Kenwood Avenue Delmar\, NY 12054
UID:e.1354.3631
SEQUENCE:3
DTSTAMP:20260421T015844Z
URL:http://business.bethlehemchamber.com/events/details/free-movement-pilates-ribbon-cutting-and-grand-opening-05-13-2015-3631
END:VEVENT

END:VCALENDAR
