BEGIN:VCALENDAR
VERSION:2.0
PRODID:-//ChamberMaster//Event Calendar 2.0//EN
METHOD:PUBLISH
X-PUBLISHED-TTL:P3D
REFRESH-INTERVAL:P3D
CALSCALE:GREGORIAN
BEGIN:VEVENT
DTSTART:20240516T170000Z
DTEND:20240516T180000Z
X-MICROSOFT-CDO-ALLDAYEVENT:FALSE
SUMMARY:Memory Loss Support Group
DESCRIPTION:Community Caregivers\, in partnership with the Alzheimer's Association\, hosts a twice monthly support group for caregivers of loved ones with Alzheimer's disease or other dementia.\n\nThe purpose of this group is to offer caregiver support\, information\, resources\, and socialization in a comfortable environment.\n\nMeetings are held on the 1st and 3rd Thursdays of each month\; from 1 - 2 pm in the music room at Christ the King Church\, 20 Sumpter Ave\, Albany. Susan Griffith\, RN will lead the group.\n\nThe meetings are free of charge and are open to the public. Advance registration is preferred\, but not required. Please call 518-456-2898 or email info@acommunitycaregivers.org if you would like to attend.
X-ALT-DESC;FMTTYPE=text/html:Community Caregivers\, in partnership with the Alzheimer&#39\;s Association\, hosts a twice monthly support group for caregivers of loved ones with Alzheimer&#39\;s disease or other dementia.<br />\nThe purpose of this group is to offer caregiver support\, information\, resources\, and socialization in a comfortable environment.<br />\nMeetings are held on the 1st and 3rd Thursdays of each month\; from 1 - 2 pm in the music room at Christ the King Church\, 20 Sumpter Ave\, Albany. Susan Griffith\, RN will lead the group.<br />\nThe meetings are free of charge and are open to the public. Advance registration is preferred\, but not required. Please call 518-456-2898 or email info@acommunitycaregivers.org if you would like to attend.&nbsp\;<br />\n&nbsp\;
LOCATION:Christ the King Church 20 Sumpter Ave Albany
UID:e.1354.8764
SEQUENCE:3
DTSTAMP:20260420T123215Z
URL:http://business.bethlehemchamber.com/events/details/memory-loss-support-group-05-16-2024-8764
END:VEVENT

END:VCALENDAR
