BEGIN:VCALENDAR
VERSION:2.0
PRODID:-//ChamberMaster//Event Calendar 2.0//EN
METHOD:PUBLISH
X-PUBLISHED-TTL:P3D
REFRESH-INTERVAL:P3D
CALSCALE:GREGORIAN
BEGIN:VEVENT
DTSTART:20241010T123000Z
DTEND:20241010T200000Z
X-MICROSOFT-CDO-ALLDAYEVENT:FALSE
SUMMARY:Phillips Memorial Golf Outing
DESCRIPTION:Phillips Hardware invites sponsors and players to The Abbott Phillips Memorial Golf outing to benefit the Make-A-Wish Foundation Northeast NY. The event will be held at the Orchard Creek Golf Course\, Thursday Oct. 10. It includes breakfast\, lunch & Hors D'oeuvre reception.\n\nEntry is $200/player\, $800/team.\n\nSponsorships are: Elite $5\,000\, Cart $2500\, Breakfast/Apps/Beverage $2500\; Platinum $1\,500\; Gold $1\,000\, Silver $750\; Bronze $500\; 50/50 Putting Contest $350\; Tee Sponsor $250.\n\n \n\nStop by Phillips Hardware 6517 NY-158\, Altamont to pick up a registration form.
X-ALT-DESC;FMTTYPE=text/html:Phillips Hardware invites sponsors and players to The Abbott Phillips Memorial Golf outing to benefit the Make-A-Wish Foundation Northeast NY. The event will be held at the Orchard Creek Golf Course\, Thursday Oct. 10. It includes breakfast\, lunch &amp\; Hors D&#39\;oeuvre reception.<br />\nEntry is $200/player\, $800/team.<br />\nSponsorships are: Elite $5\,000\, Cart $2500\, Breakfast/Apps/Beverage $2500\; Platinum $1\,500\; Gold $1\,000\, Silver $750\; Bronze $500\; 50/50 Putting Contest $350\; Tee Sponsor $250.<br />\n&nbsp\;<br />\nStop by Phillips Hardware 6517 NY-158\, Altamont to pick up a registration form.
LOCATION:Orchard Creek Golf Course 6700 Dunnsville Rd Altamont
UID:e.1354.9232
SEQUENCE:3
DTSTAMP:20260422T144444Z
URL:http://business.bethlehemchamber.com/events/details/phillips-memorial-golf-outing-9232
END:VEVENT

END:VCALENDAR
