BEGIN:VCALENDAR
VERSION:2.0
PRODID:-//ChamberMaster//Event Calendar 2.0//EN
METHOD:PUBLISH
X-PUBLISHED-TTL:P3D
REFRESH-INTERVAL:P3D
CALSCALE:GREGORIAN
BEGIN:VEVENT
DTSTART:20200219T150000Z
DTEND:20200219T200000Z
X-MICROSOFT-CDO-ALLDAYEVENT:FALSE
SUMMARY:Adams Station Apartments is hosting an American Red Cross Blood Drive
DESCRIPTION:Adams Station will be hosting an American Red Cross Blood Drive in the Clubhouse.
X-ALT-DESC;FMTTYPE=text/html:Adams Station will be hosting an American Red Cross Blood Drive in the Clubhouse.
LOCATION:Adams Station Apartments 1 Juniper Dr\, Delmar New York 12054
UID:e.1354.6381
SEQUENCE:3
DTSTAMP:20260420T090243Z
URL:https://business.bethlehemchamber.com/events/details/adams-station-apartments-is-hosting-an-american-red-cross-blood-drive-6381
END:VEVENT

END:VCALENDAR
