BEGIN:VCALENDAR
VERSION:2.0
PRODID:-//ChamberMaster//Event Calendar 2.0//EN
METHOD:PUBLISH
X-PUBLISHED-TTL:P3D
REFRESH-INTERVAL:P3D
CALSCALE:GREGORIAN
BEGIN:VEVENT
DTSTART:20220611T130000Z
DTEND:20220611T190000Z
X-MICROSOFT-CDO-ALLDAYEVENT:FALSE
SUMMARY:Grange Garage Sale
DESCRIPTION:Bethlehem Grange 137 will once again host the Annual June Garage Sale.  Donations of new or gently used items are now being accepted\, by calling Carol Carpenter 518-421-1384\, Jackie Schrom 518-810-6031\, or Charles Ryan 518-227-8954 to arrange your delivery of the items.\n\nItems accepted: housewares\, kitchen items\, linens\, toys\, puzzles\, small kitchen appliances\, small wooden furniture\, records\, CDs\, DVDs\, men's\, ladies & children's clothing & shoes\, jewelry\, decorative items\, holiday items\, dishes\, glassware\, pictures\, mirrors\, outdoor furniture\, hand tools\, garden tools\, power tools\, books\, collectibles\, craft items\, yarn\, fabric\, antiques\, pet items\, and so much more.  \n\n \n\nNot being accepted: tires\, TV's\, or computers!  \n\n \n\nNew Items will be added daily!!  There will be lots of indoor tables of items\, and lots of outdoor tables of items. Cash or checks only accepted for payment.  No Credit or Debit Cards accepted!!\n\n \n\nWe are also adding something new to our Garage Sales!! Flea Market Vendors wanted for outdoors during the Garage Sale.  For more information about becoming a Flea Market Vendor during the Garage Sale\, please call Charles Ryan at 518-227-8954.\n\n \n\nWith the constantly changing guidelines\, masks and social distancing will be still requested\, especially when indoors or in a crowded area outdoors. This is especially requested if you have not been vaccinated\, or you feel more comfortable wearing a mask.  \n\n \n\nBethlehem Grange 137 Garage Sale Dates are Friday & Saturday June 10 and 11\; June 17 and 18\; and June 24 and 25.  All days are 9am to 3pm. Bethlehem Grange 137 is located at 24 Bridge St.\, Selkirk\, NY and is handicap accessible.\n\n \n\nSaturday June 18\, 1-4 pm there will also be a take-out only Chicken BBQ Dinner.  To pre-order\, call Carol @ 518-421-1384
X-ALT-DESC;FMTTYPE=text/html:<span style="background:white\;"><span style="color:#26282A\;"><span style="font-family:arial\,sans-serif\;">Bethlehem Grange 137 will once again host the Annual June Garage Sale.&nbsp\; Donations of new or gently used items are now being accepted\, by calling Carol Carpenter 518-421-1384\, Jackie Schrom 518-810-6031\, or Charles Ryan 518-227-8954 to arrange your delivery of the items.<br />\nItems accepted: housewares\, kitchen items\, linens\, toys\, puzzles\, small kitchen appliances\, small wooden furniture\, records\, CDs\, DVDs\, men&#39\;s\, ladies &amp\; children&#39\;s clothing &amp\; shoes\, jewelry\, decorative items\, holiday items\, dishes\, glassware\, pictures\, mirrors\, outdoor furniture\, hand tools\, garden tools\, power tools\, books\, collectibles\, craft items\, yarn\, fabric\, antiques\, pet items\, and so much more.&nbsp\; </span></span></span><br />\n&nbsp\;<br />\n<span style="background:white\;"><span style="color:#26282A\;"><span style="font-family:arial\,sans-serif\;">Not being accepted: tires\, TV&#39\;s\, or computers!&nbsp\; </span></span></span><br />\n&nbsp\;<br />\n<span style="background:white\;"><span style="color:#26282A\;"><span style="font-family:arial\,sans-serif\;">New Items will be added daily!!&nbsp\; There will be lots of indoor tables of items\, and lots of outdoor tables of items. Cash or checks only accepted for payment.&nbsp\; No Credit or Debit Cards accepted!!</span></span></span><br />\n&nbsp\;<br />\n<span style="background:white\;"><span style="color:#26282A\;"><span style="font-family:arial\,sans-serif\;">We are also adding something new to our Garage Sales!! Flea Market Vendors wanted for outdoors during the Garage Sale.&nbsp\; For more information about becoming a Flea Market Vendor during the Garage Sale\, please call Charles Ryan at 518-227-8954.</span></span></span><br />\n&nbsp\;<br />\n<span style="background:white\;"><span style="color:#26282A\;"><span style="font-family:arial\,sans-serif\;">With the constantly changing guidelines\, masks and social distancing will be still requested\, especially when indoors or in a crowded area outdoors. This is especially requested if you have not been vaccinated\, or you feel more comfortable wearing a mask.&nbsp\; </span></span></span><br />\n&nbsp\;<br />\n<span style="background:white\;"><span style="color:#26282A\;"><span style="font-family:arial\,sans-serif\;">Bethlehem Grange 137 Garage Sale Dates are Friday &amp\; Saturday June 10 and 11\; June 17 and 18\; and June 24 and 25.&nbsp\; All days are 9am to 3pm. Bethlehem Grange 137 is located at 24 Bridge St.\, Selkirk\, NY and is handicap accessible.</span></span></span><br />\n&nbsp\;<br />\n<span style="background:white\;"><span style="color:#26282A\;"><span style="font-family:arial\,sans-serif\;">Saturday June 18\, 1-4 pm there will also be a take-out only Chicken BBQ Dinner.&nbsp\; To pre-order\, call Carol @ 518-421-1384&nbsp\; </span></span></span>
LOCATION:Grange Hall 24 Bridge St. Selkirk
UID:e.1354.7009
SEQUENCE:3
DTSTAMP:20260421T021400Z
URL:https://business.bethlehemchamber.com/events/details/grange-garage-sale-7009
END:VEVENT

END:VCALENDAR
