BEGIN:VCALENDAR
VERSION:2.0
PRODID:-//ChamberMaster//Event Calendar 2.0//EN
METHOD:PUBLISH
X-PUBLISHED-TTL:P3D
REFRESH-INTERVAL:P3D
CALSCALE:GREGORIAN
BEGIN:VEVENT
DTSTART:20220612T170000Z
DTEND:20220612T200000Z
X-MICROSOFT-CDO-ALLDAYEVENT:FALSE
SUMMARY:Historical Association Ice Cream Social
DESCRIPTION:Bethlehem Historical Association Ice Cream Social   lots of yummy ice cream and lots of local history exhibits. Free\, all welcome! June 12\, 1 to 4 pm at the Cedar Hill Schoolhouse\, 1003 River Road\, Selkirk. Thank you Stewart's Shops for the ice cream.\n\nThe museum is now open Sunday afternoons. Visit BethlehemHistorical.org for more information.
X-ALT-DESC;FMTTYPE=text/html:<p style="margin-top:0in\;margin-right:0in\;margin-bottom:8.0pt\;margin-left:0in"><span style="font-family:&quot\;Arial&quot\;\,sans-serif\;color:black">Bethlehem Historical Association <b>Ice Cream Social</b> &ndash\; lots of yummy ice cream and lots of local history exhibits. Free\, all welcome! June 12\, 1 to 4 pm at the Cedar Hill Schoolhouse\, 1003 River Road\, Selkirk. Thank you Stewart&rsquo\;s Shops for the ice cream.<o:p></o:p></span></p>\n\n<p style="margin-top:0in\;margin-right:0in\;margin-bottom:8.0pt\;margin-left:0in"><span style="font-family:&quot\;Arial&quot\;\,sans-serif\;color:black">The museum is now open Sunday afternoons. Visit <a href="http://BethlehemHistorical.org">BethlehemHistorical.org</a> for more information.<o:p></o:p></span></p>\n
LOCATION:Cedar Hill Schoolhouse 1003 River Rd Selkirk
UID:e.1354.7069
SEQUENCE:3
DTSTAMP:20260422T024546Z
URL:https://business.bethlehemchamber.com/events/details/historical-association-ice-cream-social-7069
END:VEVENT

END:VCALENDAR
