BEGIN:VCALENDAR
VERSION:2.0
PRODID:-//ChamberMaster//Event Calendar 2.0//EN
METHOD:PUBLISH
X-PUBLISHED-TTL:P3D
REFRESH-INTERVAL:P3D
CALSCALE:GREGORIAN
BEGIN:VEVENT
DTSTART:20191216T170000Z
DTEND:20191216T190000Z
X-MICROSOFT-CDO-ALLDAYEVENT:FALSE
SUMMARY:Monthly NYS Division of Veterans’ Affairs Session at Bethlehem Town Hall
DESCRIPTION:The third Monday of each month a representative from the NYS Division of Veterans' Affairs will be at the Bethlehem Town Hall.  People can bring questions and talk to the representative who is familiar with all the various programs available for Veterans.\n\n\n\nThe event is first come first served\, no appointment is necessary.
X-ALT-DESC;FMTTYPE=text/html:The third Monday of each month a representative from the NYS Division of Veterans&rsquo\; Affairs will be at the Bethlehem Town Hall.&nbsp\; People can bring questions and talk to the representative&nbsp\;who is familiar with all the various programs available for Veterans.<br />\n<br />\nThe event is first come first served\, no appointment is necessary.
LOCATION:Town of Bethlehem - Town Hall 445 Delaware Avenue\, Delmar
UID:e.1354.6174
SEQUENCE:3
DTSTAMP:20260425T142206Z
URL:https://business.bethlehemchamber.com/events/details/monthly-nys-division-of-veterans-affairs-session-at-bethlehem-town-hall-6174
END:VEVENT

END:VCALENDAR
